BEGIN:VCALENDAR
VERSION:2.0
PRODID:icalendar-ruby
CALSCALE:GREGORIAN
X-WR-TIMEZONE:Europe/Helsinki
BEGIN:VTIMEZONE
TZID:Europe/Helsinki
BEGIN:DAYLIGHT
DTSTART:20260329T040000
TZOFFSETFROM:+0200
TZOFFSETTO:+0300
RRULE:FREQ=YEARLY;BYDAY=-1SU;BYMONTH=3
TZNAME:EEST
END:DAYLIGHT
BEGIN:STANDARD
DTSTART:20261025T030000
TZOFFSETFROM:+0300
TZOFFSETTO:+0200
RRULE:FREQ=YEARLY;BYDAY=-1SU;BYMONTH=10
TZNAME:EET
END:STANDARD
END:VTIMEZONE
BEGIN:VEVENT
DTSTAMP:20260425T195010
UID:sapa.myclub.fi-715100
DTSTART;TZID=Europe/Helsinki:20171102T193000
DTEND;TZID=Europe/Helsinki:20171102T210000
DESCRIPTION:https://sapa.myclub.fi/flow/events/715100
LOCATION:Haapaniemen kenttä\, Haapaniemenkatu 2\, 00530 Helsinki\, Suomi
SEQUENCE:0
SUMMARY:SAPA ry: Treenit Haapaniemi
URL;VALUE=URI:https://sapa.myclub.fi/flow/events/715100
END:VEVENT
END:VCALENDAR
